BEGIN:VCALENDAR
VERSION:2.0
PRODID:-//swoogo.com//NONSGML kigkonsult.se iCalcreator 2.41.90//
CALSCALE:GREGORIAN
UID:31336462-3334-4262-a338-643530636130
BEGIN:VEVENT
UID:a04d8fafa9db0b6f02ab2fca001e199c54e41d22@swoogo.com
DTSTAMP:20260424T172701Z
DESCRIPTION:The manufacturing industry is evolving rapidly\, driven by digi
 tal transformation\, AI\, and increasing regulatory demands. We bring toge
 ther industry leaders\, experts\, and innovators to explore the latest tre
 nds\, share real-world success stories\, and showcase how cutting-edge sol
 utions can drive efficiency\, resilience\, and compliance.\n\n \n\nWHAT TO
  EXPECT: \n\n \n\n 	* Industry Trends & Insights – Gain expert perspectives
  on the future of manufacturing.\n \n 	* The Art of the Possible – Discover
  how MCO and OT can revolutionize your operations.\n \n 	* Real-World Succe
 ss Stories – Hear from leading manufacturers TBA on their transformation j
 ourney.\n \n 	* Resilience & Compliance – Learn how to navigate NIS2 regula
 tions while optimizing costs.\n \n 	* Expert & Partner Perspectives – Get i
 nsights from industry-leading partners TBA
DTSTART:20260310T073000Z
DTEND:20260310T120000Z
LAST-MODIFIED:20260424T172701Z
LOCATION:Convendum\, Kungsportsavenyen 21\, Gothenburg 411 36\, Sweden
SEQUENCE:0
STATUS:CONFIRMED
SUMMARY:Nordic Manufacturing Symposium
TRANSP:OPAQUE
X-ALT-DESC;FMTTYPE=text/html:<p>The manufacturing industry is evolving rapi
 dly\, driven by digital transformation\, AI\, and increasing regulatory de
 mands. We bring together industry leaders\, experts\, and innovators to ex
 plore the latest trends\, share real-world success stories\, and showcase 
 how cutting-edge solutions can drive efficiency\, resilience\, and complia
 nce.</p>\n\n<p> </p>\n\n<p><strong>What to Expect: </strong></p>\n\n<p> </
 p>\n\n<ul>\n	<li>Industry Trends & Insights – Gain expert perspectives on t
 he future of manufacturing.<br />\n	 </li>\n	<li>The Art of the Possible – D
 iscover how MCO and OT can revolutionize your operations.<br />\n	 </li>\n	<
 li>Real-World Success Stories – Hear from leading manufacturers TBA on the
 ir transformation journey.<br />\n	 </li>\n	<li>Resilience & Compliance – Le
 arn how to navigate NIS2 regulations while optimizing costs.<br />\n	 </li>
 \n	<li>Expert & Partner Perspectives – Get insights from industry-leading p
 artners TBA</li>\n</ul>
END:VEVENT
END:VCALENDAR
