BEGIN:VCALENDAR
VERSION:2.0
PRODID:-//swoogo.com//NONSGML kigkonsult.se iCalcreator 2.41.90//
CALSCALE:GREGORIAN
UID:65373966-3233-4436-a336-396437373436
BEGIN:VEVENT
UID:008fa74ce60ccb926a49d747632b403241bbfc79@swoogo.com
DTSTAMP:20260419T214652Z
DESCRIPTION:We’re delighted to invite you to our Networking Partner Breakfa
 st\, taking place on the morning of the Zurich Release Summit—right at the
  same venue. This is a unique opportunity to connect with our Senior Leade
 rship Team and engage in meaningful conversation ahead of a day full of in
 sights and innovation.
DTSTART:20251002T060000Z
DTEND:20251002T070000Z
LAST-MODIFIED:20260419T214652Z
LOCATION:The Circle Convention Center\, The Circle 27\, Zurich 8058\, Switz
 erland
SEQUENCE:0
STATUS:CONFIRMED
SUMMARY:Partner Connect Breakfast@Zurich Release Summit
TRANSP:OPAQUE
X-ALT-DESC;FMTTYPE=text/html:<p><span style='font-size:11pt\;'><span style=
 'font-family:Aptos\, sans-serif\;'><span lang='en-us' style='font-family:A
 rial\, sans-serif\;' xml:lang='en-us'>We’re delighted to invite you to our
  Networking Partner Breakfast\, taking place on the morning of the Zurich 
 Release Summit—right at the same venue. This is a unique opportunity to co
 nnect with our Senior Leadership Team and engage in meaningful conversatio
 n ahead of a day full of insights and innovation.</span></span></span></p>
END:VEVENT
END:VCALENDAR
