BEGIN:VCALENDAR
VERSION:2.0
PRODID:-//swoogo.com//NONSGML kigkonsult.se iCalcreator 2.41.90//
CALSCALE:GREGORIAN
UID:33346235-3639-4639-b032-646463626138
BEGIN:VEVENT
UID:554af7ed3189496ea04008683fccae23b9f6c1e2@swoogo.com
DTSTAMP:20260421T094743Z
DESCRIPTION:See the agenda here: \nhttps://rsvp.servicenow.com/HRSDAgenticA
 Ievent\n\n \n\n 
DTSTART:20251007T090000Z
DTEND:20251007T124500Z
LAST-MODIFIED:20260421T094743Z
LOCATION:Technopolis Ruoholahti\, Helsinki\, Hiilikatu 3\, Meeting room Kot
 ler\, Finland
SEQUENCE:0
STATUS:CONFIRMED
SUMMARY:Plat4mation & ServiceNow: Best practices on navigating HR transform
 ation in the era of Agentic AI
TRANSP:OPAQUE
X-ALT-DESC;FMTTYPE=text/html:<p class='MsoPlainText'>See the agenda here: <
 br />\nhttps://rsvp.servicenow.com/HRSDAgenticAIevent</p>\n\n<p class='Mso
 PlainText'> </p>\n\n<p class='MsoPlainText'> </p>
END:VEVENT
END:VCALENDAR
